BEGIN:VCALENDAR
VERSION:2.0
PRODID:-//RVA Golf - ECPv6.15.20//NONSGML v1.0//EN
CALSCALE:GREGORIAN
METHOD:PUBLISH
X-WR-CALNAME:RVA Golf
X-ORIGINAL-URL:https://www.golfrva.org
X-WR-CALDESC:Events for RVA Golf
REFRESH-INTERVAL;VALUE=DURATION:PT1H
X-Robots-Tag:noindex
X-PUBLISHED-TTL:PT1H
BEGIN:VTIMEZONE
TZID:America/New_York
BEGIN:DAYLIGHT
TZOFFSETFROM:-0500
TZOFFSETTO:-0400
TZNAME:EDT
DTSTART:20140309T070000
END:DAYLIGHT
BEGIN:STANDARD
TZOFFSETFROM:-0400
TZOFFSETTO:-0500
TZNAME:EST
DTSTART:20141102T060000
END:STANDARD
BEGIN:DAYLIGHT
TZOFFSETFROM:-0500
TZOFFSETTO:-0400
TZNAME:EDT
DTSTART:20150308T070000
END:DAYLIGHT
BEGIN:STANDARD
TZOFFSETFROM:-0400
TZOFFSETTO:-0500
TZNAME:EST
DTSTART:20151101T060000
END:STANDARD
BEGIN:DAYLIGHT
TZOFFSETFROM:-0500
TZOFFSETTO:-0400
TZNAME:EDT
DTSTART:20160313T070000
END:DAYLIGHT
BEGIN:STANDARD
TZOFFSETFROM:-0400
TZOFFSETTO:-0500
TZNAME:EST
DTSTART:20161106T060000
END:STANDARD
END:VTIMEZONE
BEGIN:VEVENT
DTSTART;TZID=America/New_York:20150920T073000
DTEND;TZID=America/New_York:20150920T140000
DTSTAMP:20260422T150254
CREATED:20150904T111156Z
LAST-MODIFIED:20150913T050834Z
UID:1343-1442734200-1442757600@www.golfrva.org
SUMMARY:Golf Tournament
DESCRIPTION:Other Details \nRegistration: 7:30 AM \nShotgun start: 9:00 AM \nFormat: Captain’s choice \nTeam: 4 players \nFee: $75 per player (includes green fees\, range balls and lunch) \nREGISTER NOW \nRegistration will be closed on 9/16/2015 \nYou can either register as a team or an individual. We will pair up the other members.
URL:https://www.golfrva.org/event/golf-tournament/
LOCATION:Pendleton Golf\, 6383 Declaration Dr\, ruther glen\, VA\, 22546\, United States
END:VEVENT
END:VCALENDAR